BEGIN:VCALENDAR
VERSION:2.0
PRODID:-//Mulwala Water Ski Club - ECPv6.11.2.1//NONSGML v1.0//EN
CALSCALE:GREGORIAN
METHOD:PUBLISH
X-ORIGINAL-URL:https://mulwalawaterski.com.au
X-WR-CALDESC:Events for Mulwala Water Ski Club
REFRESH-INTERVAL;VALUE=DURATION:PT1H
X-Robots-Tag:noindex
X-PUBLISHED-TTL:PT1H
BEGIN:VTIMEZONE
TZID:Australia/Sydney
BEGIN:STANDARD
TZOFFSETFROM:+1100
TZOFFSETTO:+1000
TZNAME:AEST
DTSTART:20260404T160000
END:STANDARD
BEGIN:DAYLIGHT
TZOFFSETFROM:+1000
TZOFFSETTO:+1100
TZNAME:AEDT
DTSTART:20261003T160000
END:DAYLIGHT
END:VTIMEZONE
BEGIN:VEVENT
DTSTART;TZID=Australia/Sydney:20260123T060000
DTEND;TZID=Australia/Sydney:20260123T100000
DTSTAMP:20260423T213922
CREATED:20251229T214346Z
LAST-MODIFIED:20251229T214346Z
UID:15487-1769148000-1769162400@mulwalawaterski.com.au
SUMMARY:Me and the Girl are Free to see at Mulwala Water Ski Club
DESCRIPTION:
URL:https://mulwalawaterski.com.au/event/me-and-the-girl-are-free-to-see-at-mulwala-water-ski-club/
LOCATION:Malibu Deck
ATTACH;FMTTYPE=image/jpeg:https://mulwalawaterski.com.au/wp-content/uploads/2025/12/PA.jpg
ORGANIZER;CN="Mulwala Water Ski Club":MAILTO:mulski@mulwalawaterski.com.au
END:VEVENT
BEGIN:VEVENT
DTSTART;TZID=Australia/Sydney:20260123T100000
DTEND;TZID=Australia/Sydney:20260123T125900
DTSTAMP:20260423T213922
CREATED:20251229T213932Z
LAST-MODIFIED:20251229T213932Z
UID:15484-1769162400-1769173140@mulwalawaterski.com.au
SUMMARY:EMPRESS & ACES are Free to see at Mulwala Water Ski Club
DESCRIPTION:
URL:https://mulwalawaterski.com.au/event/empress-aces-are-free-to-see-at-mulwala-water-ski-club-2/
LOCATION:Main Lounge
ATTACH;FMTTYPE=image/jpeg:https://mulwalawaterski.com.au/wp-content/uploads/2025/12/2025-artwork-Empress-Aces.jpg
ORGANIZER;CN="Mulwala Water Ski Club":MAILTO:mulski@mulwalawaterski.com.au
END:VEVENT
END:VCALENDAR