BEGIN:VCALENDAR
VERSION:2.0
PRODID:-//Mulwala Water Ski Club - ECPv6.11.2.1//NONSGML v1.0//EN
CALSCALE:GREGORIAN
METHOD:PUBLISH
X-WR-CALNAME:Mulwala Water Ski Club
X-ORIGINAL-URL:https://mulwalawaterski.com.au
X-WR-CALDESC:Events for Mulwala Water Ski Club
REFRESH-INTERVAL;VALUE=DURATION:PT1H
X-Robots-Tag:noindex
X-PUBLISHED-TTL:PT1H
BEGIN:VTIMEZONE
TZID:Australia/Sydney
BEGIN:STANDARD
TZOFFSETFROM:+1100
TZOFFSETTO:+1000
TZNAME:AEST
DTSTART:20250405T160000
END:STANDARD
BEGIN:DAYLIGHT
TZOFFSETFROM:+1000
TZOFFSETTO:+1100
TZNAME:AEDT
DTSTART:20251004T160000
END:DAYLIGHT
END:VTIMEZONE
BEGIN:VEVENT
DTSTART;TZID=Australia/Sydney:20250405T083000
DTEND;TZID=Australia/Sydney:20250405T103000
DTSTAMP:20260420T145007
CREATED:20250226T234757Z
LAST-MODIFIED:20250226T234757Z
UID:13421-1743841800-1743849000@mulwalawaterski.com.au
SUMMARY:Cool Change experience the music of LRB The Little River Band Story - Free Show on the Malibu Deck
DESCRIPTION:
URL:https://mulwalawaterski.com.au/event/cool-change-experience-the-music-of-lrb-the-little-river-band-story-free-show-on-the-malibu-deck/
CATEGORIES:Malibu Deck
ATTACH;FMTTYPE=image/jpeg:https://mulwalawaterski.com.au/wp-content/uploads/2025/02/LRB-Venue-Promo-Poster-V2-Web.jpg
END:VEVENT
BEGIN:VEVENT
DTSTART;TZID=Australia/Sydney:20250406T060000
DTEND;TZID=Australia/Sydney:20250406T100000
DTSTAMP:20260420T145007
CREATED:20250226T235329Z
LAST-MODIFIED:20250226T235329Z
UID:13444-1743919200-1743933600@mulwalawaterski.com.au
SUMMARY:Liam Dalby on the Malibu Deck - Free to See
DESCRIPTION:
URL:https://mulwalawaterski.com.au/event/liam-dalby-on-the-malibu-deck-free-to-see/
CATEGORIES:Malibu Deck
ATTACH;FMTTYPE=image/jpeg:https://mulwalawaterski.com.au/wp-content/uploads/2025/01/337001310_1250571118879767_8251610902538601792_n.jpg
ORGANIZER;CN="Mulwala Water Ski Club":MAILTO:mulski@mulwalawaterski.com.au
END:VEVENT
BEGIN:VEVENT
DTSTART;TZID=Australia/Sydney:20250419T070000
DTEND;TZID=Australia/Sydney:20250419T110000
DTSTAMP:20260420T145007
CREATED:20250227T001548Z
LAST-MODIFIED:20250227T001548Z
UID:13455-1745046000-1745060400@mulwalawaterski.com.au
SUMMARY:Andrew Wishart on the Malibu Deck
DESCRIPTION:
URL:https://mulwalawaterski.com.au/event/andrew-wishart-on-the-malibu-deck-7/
CATEGORIES:Malibu Deck
ATTACH;FMTTYPE=image/jpeg:https://mulwalawaterski.com.au/wp-content/uploads/2024/10/andrew-wishart.jpg
ORGANIZER;CN="Mulwala Water Ski Club":MAILTO:mulski@mulwalawaterski.com.au
END:VEVENT
END:VCALENDAR