BEGIN:VCALENDAR
VERSION:2.0
PRODID:-//Mulwala Water Ski Club - ECPv6.11.2.1//NONSGML v1.0//EN
CALSCALE:GREGORIAN
METHOD:PUBLISH
X-ORIGINAL-URL:https://mulwalawaterski.com.au
X-WR-CALDESC:Events for Mulwala Water Ski Club
REFRESH-INTERVAL;VALUE=DURATION:PT1H
X-Robots-Tag:noindex
X-PUBLISHED-TTL:PT1H
BEGIN:VTIMEZONE
TZID:Australia/Melbourne
BEGIN:STANDARD
TZOFFSETFROM:+1100
TZOFFSETTO:+1000
TZNAME:AEST
DTSTART:20240406T160000
END:STANDARD
BEGIN:DAYLIGHT
TZOFFSETFROM:+1000
TZOFFSETTO:+1100
TZNAME:AEDT
DTSTART:20241005T160000
END:DAYLIGHT
END:VTIMEZONE
BEGIN:VEVENT
DTSTART;TZID=Australia/Melbourne:20240119T080000
DTEND;TZID=Australia/Melbourne:20240119T120000
DTSTAMP:20260420T053758
CREATED:20240115T025836Z
LAST-MODIFIED:20240115T025836Z
UID:8027-1705651200-1705665600@mulwalawaterski.com.au
SUMMARY:Catch 22
DESCRIPTION:
URL:https://mulwalawaterski.com.au/event/catch-22/
CATEGORIES:Ski Club
END:VEVENT
BEGIN:VEVENT
DTSTART;TZID=Australia/Melbourne:20240120T103000
DTEND;TZID=Australia/Melbourne:20240120T123000
DTSTAMP:20260420T053758
CREATED:20240115T032447Z
LAST-MODIFIED:20240115T032447Z
UID:8029-1705746600-1705753800@mulwalawaterski.com.au
SUMMARY:Disturbing The Peace
DESCRIPTION:
URL:https://mulwalawaterski.com.au/event/disturbing-the-peace/
CATEGORIES:Ski Club
END:VEVENT
BEGIN:VEVENT
DTSTART;TZID=Australia/Melbourne:20240121T060000
DTEND;TZID=Australia/Melbourne:20240121T100000
DTSTAMP:20260420T053758
CREATED:20240115T032811Z
LAST-MODIFIED:20240115T032811Z
UID:8032-1705816800-1705831200@mulwalawaterski.com.au
SUMMARY:Luke Dewing on the Malibu Deck
DESCRIPTION:
URL:https://mulwalawaterski.com.au/event/luke-dewing-on-the-malibu-deck/
CATEGORIES:Ski Club
END:VEVENT
BEGIN:VEVENT
DTSTART;TZID=Australia/Melbourne:20240125T080000
DTEND;TZID=Australia/Melbourne:20240125T120000
DTSTAMP:20260420T053758
CREATED:20240115T033026Z
LAST-MODIFIED:20240115T033026Z
UID:8034-1706169600-1706184000@mulwalawaterski.com.au
SUMMARY:JB and Me on the Malibu Deck
DESCRIPTION:
URL:https://mulwalawaterski.com.au/event/jb-and-me-on-the-malibu-deck/
CATEGORIES:Ski Club
END:VEVENT
BEGIN:VEVENT
DTSTART;TZID=Australia/Melbourne:20240126T050000
DTEND;TZID=Australia/Melbourne:20240126T090000
DTSTAMP:20260420T053758
CREATED:20240115T033254Z
LAST-MODIFIED:20240115T033254Z
UID:8036-1706245200-1706259600@mulwalawaterski.com.au
SUMMARY:Paul Lines on the Malibu Deck
DESCRIPTION:
URL:https://mulwalawaterski.com.au/event/paul-lines-on-the-malibu-deck/
CATEGORIES:Ski Club
END:VEVENT
BEGIN:VEVENT
DTSTART;TZID=Australia/Melbourne:20240126T093000
DTEND;TZID=Australia/Melbourne:20240126T123000
DTSTAMP:20260420T053758
CREATED:20240115T033504Z
LAST-MODIFIED:20240115T033504Z
UID:8038-1706261400-1706272200@mulwalawaterski.com.au
SUMMARY:SMAC
DESCRIPTION:
URL:https://mulwalawaterski.com.au/event/smac/
LOCATION:Refund and Returns Policy
CATEGORIES:Ski Club
END:VEVENT
BEGIN:VEVENT
DTSTART;TZID=Australia/Melbourne:20240127T103000
DTEND;TZID=Australia/Melbourne:20240127T123000
DTSTAMP:20260420T053758
CREATED:20240115T040358Z
LAST-MODIFIED:20240115T040358Z
UID:8040-1706351400-1706358600@mulwalawaterski.com.au
SUMMARY:Scarecrow —The songs of John Cougar-Mellencamp
DESCRIPTION:
URL:https://mulwalawaterski.com.au/event/scarecrow-the-songs-of-john-cougar-mellencamp/
LOCATION:Refund and Returns Policy
CATEGORIES:Ski Club
END:VEVENT
BEGIN:VEVENT
DTSTART;TZID=Australia/Melbourne:20240127T110000
DTEND;TZID=Australia/Melbourne:20240127T123000
DTSTAMP:20260420T053758
CREATED:20240115T041020Z
LAST-MODIFIED:20240115T041020Z
UID:8042-1706353200-1706358600@mulwalawaterski.com.au
SUMMARY:Me & The Girl — support Scarecrow
DESCRIPTION:
URL:https://mulwalawaterski.com.au/event/me-the-girl-support-scarecrow/
LOCATION:Refund and Returns Policy
CATEGORIES:Ski Club
END:VEVENT
BEGIN:VEVENT
DTSTART;TZID=Australia/Melbourne:20240128T060000
DTEND;TZID=Australia/Melbourne:20240128T100000
DTSTAMP:20260420T053758
CREATED:20240115T221734Z
LAST-MODIFIED:20240115T221734Z
UID:8045-1706421600-1706436000@mulwalawaterski.com.au
SUMMARY:Andrew Wishart on the Malibu Deck
DESCRIPTION:
URL:https://mulwalawaterski.com.au/event/andrew-wishart-on-the-malibu-deck/
CATEGORIES:Ski Club
END:VEVENT
END:VCALENDAR