BEGIN:VCALENDAR
VERSION:2.0
PRODID:-//Mulwala Water Ski Club - ECPv6.11.2.1//NONSGML v1.0//EN
CALSCALE:GREGORIAN
METHOD:PUBLISH
X-WR-CALNAME:Mulwala Water Ski Club
X-ORIGINAL-URL:https://mulwalawaterski.com.au
X-WR-CALDESC:Events for Mulwala Water Ski Club
REFRESH-INTERVAL;VALUE=DURATION:PT1H
X-Robots-Tag:noindex
X-PUBLISHED-TTL:PT1H
BEGIN:VTIMEZONE
TZID:Australia/Sydney
BEGIN:STANDARD
TZOFFSETFROM:+1100
TZOFFSETTO:+1000
TZNAME:AEST
DTSTART:20250405T160000
END:STANDARD
BEGIN:DAYLIGHT
TZOFFSETFROM:+1000
TZOFFSETTO:+1100
TZNAME:AEDT
DTSTART:20251004T160000
END:DAYLIGHT
END:VTIMEZONE
BEGIN:VEVENT
DTSTART;TZID=Australia/Sydney:20250509T100000
DTEND;TZID=Australia/Sydney:20250509T135900
DTSTAMP:20260420T145628
CREATED:20250227T004929Z
LAST-MODIFIED:20250227T004929Z
UID:13484-1746784800-1746799140@mulwalawaterski.com.au
SUMMARY:Catch 22 - Free to see at Mulwala Water Ski Club
DESCRIPTION:
URL:https://mulwalawaterski.com.au/event/catch-22-free-to-see-at-mulwala-water-ski-club/
LOCATION:Main Lounge
CATEGORIES:Ski Club
ATTACH;FMTTYPE=image/jpeg:https://mulwalawaterski.com.au/wp-content/uploads/2025/01/catch_22.jpg
ORGANIZER;CN="Mulwala Water Ski Club":MAILTO:mulski@mulwalawaterski.com.au
END:VEVENT
BEGIN:VEVENT
DTSTART;TZID=Australia/Sydney:20250516T100000
DTEND;TZID=Australia/Sydney:20250516T135900
DTSTAMP:20260420T145628
CREATED:20250227T010647Z
LAST-MODIFIED:20250227T010647Z
UID:13492-1747389600-1747403940@mulwalawaterski.com.au
SUMMARY:Me and the Girl - Free to see at Mulwala Water Ski Club
DESCRIPTION:
URL:https://mulwalawaterski.com.au/event/me-and-the-girl-free-to-see-at-mulwala-water-ski-club/
LOCATION:Main Lounge
CATEGORIES:Ski Club
ATTACH;FMTTYPE=image/jpeg:https://mulwalawaterski.com.au/wp-content/uploads/2025/01/PA.jpg
ORGANIZER;CN="Mulwala Water Ski Club":MAILTO:mulski@mulwalawaterski.com.au
END:VEVENT
BEGIN:VEVENT
DTSTART;TZID=Australia/Sydney:20250517T110000
DTEND;TZID=Australia/Sydney:20250517T135900
DTSTAMP:20260420T145628
CREATED:20250227T012254Z
LAST-MODIFIED:20250227T012254Z
UID:13494-1747479600-1747490340@mulwalawaterski.com.au
SUMMARY:Ramble Tamble - Australian Creedence Show - Free to See at Mulwala Water Ski Club
DESCRIPTION:
URL:https://mulwalawaterski.com.au/event/ramble-tamble-australian-creedence-show-free-to-see-at-mulwala-water-ski-club/
LOCATION:Main Lounge
CATEGORIES:Ski Club
ATTACH;FMTTYPE=image/png:https://mulwalawaterski.com.au/wp-content/uploads/2025/02/Ramble-Tamble-promo-pic-4.png
ORGANIZER;CN="Mulwala Water Ski Club":MAILTO:mulski@mulwalawaterski.com.au
END:VEVENT
BEGIN:VEVENT
DTSTART;TZID=Australia/Sydney:20250524T110000
DTEND;TZID=Australia/Sydney:20250524T135900
DTSTAMP:20260420T145628
CREATED:20250227T013155Z
LAST-MODIFIED:20250227T013506Z
UID:13502-1748084400-1748095140@mulwalawaterski.com.au
SUMMARY:Hot Pink - The Australia Tribute Show - Free to See
DESCRIPTION:
URL:https://mulwalawaterski.com.au/event/hot-pink-the-australia-tribute-show/
LOCATION:Main Lounge
CATEGORIES:Ski Club
ATTACH;FMTTYPE=image/png:https://mulwalawaterski.com.au/wp-content/uploads/2025/02/HOT-PINK-2.png
ORGANIZER;CN="Mulwala Water Ski Club":MAILTO:mulski@mulwalawaterski.com.au
END:VEVENT
BEGIN:VEVENT
DTSTART;TZID=Australia/Sydney:20250531T103000
DTEND;TZID=Australia/Sydney:20250531T135900
DTSTAMP:20260420T145628
CREATED:20250227T033440Z
LAST-MODIFIED:20250227T033440Z
UID:13513-1748687400-1748699940@mulwalawaterski.com.au
SUMMARY:Catch 22 - Free to see at Mulwala Water Ski Club
DESCRIPTION:
URL:https://mulwalawaterski.com.au/event/catch-22-free-to-see-at-mulwala-water-ski-club-2/
LOCATION:Main Lounge
CATEGORIES:Ski Club
ATTACH;FMTTYPE=image/jpeg:https://mulwalawaterski.com.au/wp-content/uploads/2025/01/catch_22.jpg
ORGANIZER;CN="Mulwala Water Ski Club":MAILTO:mulski@mulwalawaterski.com.au
END:VEVENT
END:VCALENDAR