BEGIN:VCALENDAR
VERSION:2.0
PRODID:-//Mulwala Water Ski Club - ECPv6.11.2.1//NONSGML v1.0//EN
CALSCALE:GREGORIAN
METHOD:PUBLISH
X-WR-CALNAME:Mulwala Water Ski Club
X-ORIGINAL-URL:https://mulwalawaterski.com.au
X-WR-CALDESC:Events for Mulwala Water Ski Club
REFRESH-INTERVAL;VALUE=DURATION:PT1H
X-Robots-Tag:noindex
X-PUBLISHED-TTL:PT1H
BEGIN:VTIMEZONE
TZID:Australia/Sydney
BEGIN:STANDARD
TZOFFSETFROM:+1100
TZOFFSETTO:+1000
TZNAME:AEST
DTSTART:20250405T160000
END:STANDARD
BEGIN:DAYLIGHT
TZOFFSETFROM:+1000
TZOFFSETTO:+1100
TZNAME:AEDT
DTSTART:20251004T160000
END:DAYLIGHT
END:VTIMEZONE
BEGIN:VEVENT
DTSTART;TZID=Australia/Sydney:20250705T110000
DTEND;TZID=Australia/Sydney:20250705T135900
DTSTAMP:20260420T185355
CREATED:20250227T041930Z
LAST-MODIFIED:20250227T041930Z
UID:13537-1751713200-1751723940@mulwalawaterski.com.au
SUMMARY:SOS The Australian ABBA Tribute Show - Free to see at Mulwala Water Ski Club
DESCRIPTION:
URL:https://mulwalawaterski.com.au/event/sos-the-australian-abba-tribute-show-free-to-see-at-mulwala-water-ski-club/
LOCATION:Main Lounge
CATEGORIES:Ski Club
ATTACH;FMTTYPE=image/png:https://mulwalawaterski.com.au/wp-content/uploads/2025/02/10-SOS-2024-Profile-Image.png
ORGANIZER;CN="Mulwala Water Ski Club":MAILTO:mulski@mulwalawaterski.com.au
END:VEVENT
BEGIN:VEVENT
DTSTART;TZID=Australia/Sydney:20250711T100000
DTEND;TZID=Australia/Sydney:20250711T135900
DTSTAMP:20260420T185355
CREATED:20250227T042113Z
LAST-MODIFIED:20250227T042544Z
UID:13540-1752228000-1752242340@mulwalawaterski.com.au
SUMMARY:Me and the Girl - Free to see at Mulwala Water Ski Club
DESCRIPTION:
URL:https://mulwalawaterski.com.au/event/me-and-the-girl-11/
LOCATION:Main Lounge
CATEGORIES:Ski Club
ATTACH;FMTTYPE=image/jpeg:https://mulwalawaterski.com.au/wp-content/uploads/2024/10/PA.jpg
ORGANIZER;CN="Mulwala Water Ski Club":MAILTO:mulski@mulwalawaterski.com.au
END:VEVENT
END:VCALENDAR