BEGIN:VCALENDAR
VERSION:2.0
PRODID:-//Mulwala Water Ski Club - ECPv6.11.2.1//NONSGML v1.0//EN
CALSCALE:GREGORIAN
METHOD:PUBLISH
X-WR-CALNAME:Mulwala Water Ski Club
X-ORIGINAL-URL:https://mulwalawaterski.com.au
X-WR-CALDESC:Events for Mulwala Water Ski Club
REFRESH-INTERVAL;VALUE=DURATION:PT1H
X-Robots-Tag:noindex
X-PUBLISHED-TTL:PT1H
BEGIN:VTIMEZONE
TZID:Australia/Melbourne
BEGIN:STANDARD
TZOFFSETFROM:+1100
TZOFFSETTO:+1000
TZNAME:AEST
DTSTART:20230401T160000
END:STANDARD
BEGIN:DAYLIGHT
TZOFFSETFROM:+1000
TZOFFSETTO:+1100
TZNAME:AEDT
DTSTART:20230930T160000
END:DAYLIGHT
END:VTIMEZONE
BEGIN:VEVENT
DTSTART;TZID=Australia/Melbourne:20231118T093000
DTEND;TZID=Australia/Melbourne:20231118T123000
DTSTAMP:20260420T021029
CREATED:20231016T211030Z
LAST-MODIFIED:20231016T211030Z
UID:7803-1700299800-1700310600@mulwalawaterski.com.au
SUMMARY:Support — Catch 22
DESCRIPTION:
URL:https://mulwalawaterski.com.au/event/support-catch-22/
LOCATION:Refund and Returns Policy
CATEGORIES:Ski Club
END:VEVENT
BEGIN:VEVENT
DTSTART;TZID=Australia/Melbourne:20231118T093000
DTEND;TZID=Australia/Melbourne:20231118T123000
DTSTAMP:20260420T021029
CREATED:20231016T211157Z
LAST-MODIFIED:20231016T211157Z
UID:7805-1700299800-1700310600@mulwalawaterski.com.au
SUMMARY:Soul Chisel
DESCRIPTION:
URL:https://mulwalawaterski.com.au/event/soul-chisel/
LOCATION:Refund and Returns Policy
CATEGORIES:Ski Club
END:VEVENT
END:VCALENDAR