BEGIN:VCALENDAR
VERSION:2.0
PRODID:-//Mulwala Water Ski Club - ECPv6.11.2.1//NONSGML v1.0//EN
CALSCALE:GREGORIAN
METHOD:PUBLISH
X-WR-CALNAME:Mulwala Water Ski Club
X-ORIGINAL-URL:https://mulwalawaterski.com.au
X-WR-CALDESC:Events for Mulwala Water Ski Club
REFRESH-INTERVAL;VALUE=DURATION:PT1H
X-Robots-Tag:noindex
X-PUBLISHED-TTL:PT1H
BEGIN:VTIMEZONE
TZID:Australia/Melbourne
BEGIN:STANDARD
TZOFFSETFROM:+1100
TZOFFSETTO:+1000
TZNAME:AEST
DTSTART:20230401T160000
END:STANDARD
BEGIN:DAYLIGHT
TZOFFSETFROM:+1000
TZOFFSETTO:+1100
TZNAME:AEDT
DTSTART:20230930T160000
END:DAYLIGHT
END:VTIMEZONE
BEGIN:VEVENT
DTSTART;TZID=Australia/Melbourne:20231210T050000
DTEND;TZID=Australia/Melbourne:20231210T090000
DTSTAMP:20260420T034822
CREATED:20231204T234945Z
LAST-MODIFIED:20231204T234945Z
UID:7891-1702184400-1702198800@mulwalawaterski.com.au
SUMMARY:Jammed Up
DESCRIPTION:
URL:https://mulwalawaterski.com.au/event/jammed-up/
CATEGORIES:Ski Club
END:VEVENT
END:VCALENDAR