BEGIN:VCALENDAR
VERSION:2.0
PRODID:-//Mulwala Water Ski Club - ECPv6.11.2.1//NONSGML v1.0//EN
CALSCALE:GREGORIAN
METHOD:PUBLISH
X-ORIGINAL-URL:https://mulwalawaterski.com.au
X-WR-CALDESC:Events for Mulwala Water Ski Club
REFRESH-INTERVAL;VALUE=DURATION:PT1H
X-Robots-Tag:noindex
X-PUBLISHED-TTL:PT1H
BEGIN:VTIMEZONE
TZID:Australia/Melbourne
BEGIN:STANDARD
TZOFFSETFROM:+1100
TZOFFSETTO:+1000
TZNAME:AEST
DTSTART:20230401T160000
END:STANDARD
BEGIN:DAYLIGHT
TZOFFSETFROM:+1000
TZOFFSETTO:+1100
TZNAME:AEDT
DTSTART:20230930T160000
END:DAYLIGHT
END:VTIMEZONE
BEGIN:VEVENT
DTSTART;TZID=Australia/Melbourne:20231223T103000
DTEND;TZID=Australia/Melbourne:20231223T123000
DTSTAMP:20260420T035116
CREATED:20231205T000947Z
LAST-MODIFIED:20231205T000947Z
UID:7899-1703327400-1703334600@mulwalawaterski.com.au
SUMMARY:Back to the 70s\, 80s
DESCRIPTION:
URL:https://mulwalawaterski.com.au/event/back-to-the-70s-80s/
LOCATION:Refund and Returns Policy
CATEGORIES:Ski Club
END:VEVENT
END:VCALENDAR