BEGIN:VCALENDAR
VERSION:2.0
PRODID:-//Mulwala Water Ski Club - ECPv6.11.2.1//NONSGML v1.0//EN
CALSCALE:GREGORIAN
METHOD:PUBLISH
X-ORIGINAL-URL:https://mulwalawaterski.com.au
X-WR-CALDESC:Events for Mulwala Water Ski Club
REFRESH-INTERVAL;VALUE=DURATION:PT1H
X-Robots-Tag:noindex
X-PUBLISHED-TTL:PT1H
BEGIN:VTIMEZONE
TZID:Australia/Sydney
BEGIN:STANDARD
TZOFFSETFROM:+1100
TZOFFSETTO:+1000
TZNAME:AEST
DTSTART:20250405T160000
END:STANDARD
BEGIN:DAYLIGHT
TZOFFSETFROM:+1000
TZOFFSETTO:+1100
TZNAME:AEDT
DTSTART:20251004T160000
END:DAYLIGHT
END:VTIMEZONE
BEGIN:VEVENT
DTSTART;TZID=Australia/Sydney:20250927T103000
DTEND;TZID=Australia/Sydney:20250927T135900
DTSTAMP:20260422T234048
CREATED:20250822T072717Z
LAST-MODIFIED:20250822T072717Z
UID:15074-1758969000-1758981540@mulwalawaterski.com.au
SUMMARY:Wilbur Wilde Special Guest with JUNKMALE at Mulwala Water Ski Club
DESCRIPTION:Live and Free to See – don’t miss your chance to see Wilbur Wilde Special Guest with JUNKMALE on AFL Grand-final night.
URL:https://mulwalawaterski.com.au/event/wilbur-wilde-special-guest-with-junkmale-at-mulwala-water-ski-club/
LOCATION:Main Lounge
CATEGORIES:Ski Club
ATTACH;FMTTYPE=image/jpeg:https://mulwalawaterski.com.au/wp-content/uploads/2025/08/junkmail-and-wilbur-wilde-main-lounge.jpg
ORGANIZER;CN="Mulwala Water Ski Club":MAILTO:mulski@mulwalawaterski.com.au
END:VEVENT
END:VCALENDAR