BEGIN:VCALENDAR
VERSION:2.0
PRODID:-//Mulwala Water Ski Club - ECPv6.11.2.1//NONSGML v1.0//EN
CALSCALE:GREGORIAN
METHOD:PUBLISH
X-WR-CALNAME:Mulwala Water Ski Club
X-ORIGINAL-URL:https://mulwalawaterski.com.au
X-WR-CALDESC:Events for Mulwala Water Ski Club
REFRESH-INTERVAL;VALUE=DURATION:PT1H
X-Robots-Tag:noindex
X-PUBLISHED-TTL:PT1H
BEGIN:VTIMEZONE
TZID:Australia/Sydney
BEGIN:STANDARD
TZOFFSETFROM:+1100
TZOFFSETTO:+1000
TZNAME:AEST
DTSTART:20240406T160000
END:STANDARD
BEGIN:DAYLIGHT
TZOFFSETFROM:+1000
TZOFFSETTO:+1100
TZNAME:AEDT
DTSTART:20241005T160000
END:DAYLIGHT
END:VTIMEZONE
BEGIN:VTIMEZONE
TZID:Australia/Melbourne
BEGIN:STANDARD
TZOFFSETFROM:+1100
TZOFFSETTO:+1000
TZNAME:AEST
DTSTART:20240406T160000
END:STANDARD
BEGIN:DAYLIGHT
TZOFFSETFROM:+1000
TZOFFSETTO:+1100
TZNAME:AEDT
DTSTART:20241005T160000
END:DAYLIGHT
END:VTIMEZONE
BEGIN:VEVENT
DTSTART;TZID=Australia/Sydney:20240331T100000
DTEND;TZID=Australia/Sydney:20240331T100000
DTSTAMP:20260420T005904
CREATED:20240207T061426Z
LAST-MODIFIED:20240207T061426Z
UID:8374-1711879200-1711879200@mulwalawaterski.com.au
SUMMARY:Taxi Ride
DESCRIPTION:
URL:https://mulwalawaterski.com.au/event/taxi-ride/
END:VEVENT
BEGIN:VEVENT
DTSTART;TZID=Australia/Sydney:20240331T060000
DTEND;TZID=Australia/Sydney:20240331T100000
DTSTAMP:20260420T005904
CREATED:20240207T061403Z
LAST-MODIFIED:20240207T061403Z
UID:8372-1711864800-1711879200@mulwalawaterski.com.au
SUMMARY:Andrew Wishart | Malibu Deck
DESCRIPTION:
URL:https://mulwalawaterski.com.au/event/andrew-wishart-malibu-deck-2/
LOCATION:Malibu Deck
CATEGORIES:Malibu Deck
END:VEVENT
BEGIN:VEVENT
DTSTART;TZID=Australia/Sydney:20240330T103000
DTEND;TZID=Australia/Sydney:20240330T120000
DTSTAMP:20260420T005904
CREATED:20240207T061305Z
LAST-MODIFIED:20240227T051031Z
UID:8368-1711794600-1711800000@mulwalawaterski.com.au
SUMMARY:Screamin Eagles
DESCRIPTION:
URL:https://mulwalawaterski.com.au/event/screamin-eagles/
END:VEVENT
BEGIN:VEVENT
DTSTART;TZID=Australia/Sydney:20240330T060000
DTEND;TZID=Australia/Sydney:20240330T100000
DTSTAMP:20260420T005904
CREATED:20240207T061324Z
LAST-MODIFIED:20240227T051023Z
UID:8370-1711778400-1711792800@mulwalawaterski.com.au
SUMMARY:Support Catch 22
DESCRIPTION:
URL:https://mulwalawaterski.com.au/event/support-catch-22-2/
LOCATION:Malibu Deck
CATEGORIES:Malibu Deck
END:VEVENT
BEGIN:VEVENT
DTSTART;TZID=Australia/Sydney:20240329T103000
DTEND;TZID=Australia/Sydney:20240329T120000
DTSTAMP:20260420T005904
CREATED:20240207T060839Z
LAST-MODIFIED:20240207T060839Z
UID:8366-1711708200-1711713600@mulwalawaterski.com.au
SUMMARY:JUNKMALE
DESCRIPTION:
URL:https://mulwalawaterski.com.au/event/junkmale/
LOCATION:Malibu Deck
CATEGORIES:Malibu Deck
END:VEVENT
BEGIN:VEVENT
DTSTART;TZID=Australia/Sydney:20240329T060000
DTEND;TZID=Australia/Sydney:20240329T100000
DTSTAMP:20260420T005904
CREATED:20240207T060805Z
LAST-MODIFIED:20240207T060805Z
UID:8364-1711692000-1711706400@mulwalawaterski.com.au
SUMMARY:Jammed Up | Malibu Deck
DESCRIPTION:
URL:https://mulwalawaterski.com.au/event/jammed-up-malibu-deck/
LOCATION:Malibu Deck
CATEGORIES:Malibu Deck
END:VEVENT
BEGIN:VEVENT
DTSTART;TZID=Australia/Sydney:20240324T050000
DTEND;TZID=Australia/Sydney:20240324T090000
DTSTAMP:20260420T005904
CREATED:20240207T060723Z
LAST-MODIFIED:20240207T060723Z
UID:8362-1711256400-1711270800@mulwalawaterski.com.au
SUMMARY:Fanbelt | Malibu Deck
DESCRIPTION:
URL:https://mulwalawaterski.com.au/event/fanbelt-malibu-deck/
LOCATION:Malibu Deck
CATEGORIES:Malibu Deck
END:VEVENT
BEGIN:VEVENT
DTSTART;TZID=Australia/Sydney:20240323T080000
DTEND;TZID=Australia/Sydney:20240323T120000
DTSTAMP:20260420T005904
CREATED:20240207T060653Z
LAST-MODIFIED:20240207T060653Z
UID:8360-1711180800-1711195200@mulwalawaterski.com.au
SUMMARY:Goliath
DESCRIPTION:
URL:https://mulwalawaterski.com.au/event/goliath/
END:VEVENT
BEGIN:VEVENT
DTSTART;TZID=Australia/Sydney:20240322T080000
DTEND;TZID=Australia/Sydney:20240322T120000
DTSTAMP:20260420T005904
CREATED:20240207T060629Z
LAST-MODIFIED:20240207T060629Z
UID:8358-1711094400-1711108800@mulwalawaterski.com.au
SUMMARY:Catch 22 | Malibu Deck
DESCRIPTION:
URL:https://mulwalawaterski.com.au/event/catch-22-malibu-deck/
LOCATION:Malibu Deck
CATEGORIES:Malibu Deck
END:VEVENT
BEGIN:VEVENT
DTSTART;TZID=Australia/Sydney:20240317T050000
DTEND;TZID=Australia/Sydney:20240317T090000
DTSTAMP:20260420T005904
CREATED:20240207T060554Z
LAST-MODIFIED:20240207T060554Z
UID:8356-1710651600-1710666000@mulwalawaterski.com.au
SUMMARY:Bin Chickens | Malibu Deck
DESCRIPTION:
URL:https://mulwalawaterski.com.au/event/bin-chickens-malibu-deck/
LOCATION:Malibu Deck
CATEGORIES:Malibu Deck
END:VEVENT
BEGIN:VEVENT
DTSTART;TZID=Australia/Sydney:20240316T080000
DTEND;TZID=Australia/Sydney:20240316T120000
DTSTAMP:20260420T005904
CREATED:20240207T060519Z
LAST-MODIFIED:20240207T060519Z
UID:8354-1710576000-1710590400@mulwalawaterski.com.au
SUMMARY:George Trimmer Band G.T.B.
DESCRIPTION:
URL:https://mulwalawaterski.com.au/event/george-trimmer-band-g-t-b/
END:VEVENT
BEGIN:VEVENT
DTSTART;TZID=Australia/Sydney:20240315T080000
DTEND;TZID=Australia/Sydney:20240315T120000
DTSTAMP:20260420T005904
CREATED:20240207T060456Z
LAST-MODIFIED:20240207T060456Z
UID:8352-1710489600-1710504000@mulwalawaterski.com.au
SUMMARY:Scott & Amanda | Malibu Deck
DESCRIPTION:
URL:https://mulwalawaterski.com.au/event/scott-amanda-malibu-deck/
LOCATION:Malibu Deck
CATEGORIES:Malibu Deck
END:VEVENT
BEGIN:VEVENT
DTSTART;TZID=Australia/Sydney:20240310T060000
DTEND;TZID=Australia/Sydney:20240310T100000
DTSTAMP:20260420T005904
CREATED:20240207T060419Z
LAST-MODIFIED:20240207T060419Z
UID:8350-1710050400-1710064800@mulwalawaterski.com.au
SUMMARY:Andrew Wishart | Malibu Deck
DESCRIPTION:
URL:https://mulwalawaterski.com.au/event/andrew-wishart-malibu-deck/
LOCATION:Malibu Deck
CATEGORIES:Malibu Deck
END:VEVENT
BEGIN:VEVENT
DTSTART;TZID=Australia/Sydney:20240309T080000
DTEND;TZID=Australia/Sydney:20240309T120000
DTSTAMP:20260420T005904
CREATED:20240207T060343Z
LAST-MODIFIED:20240207T060343Z
UID:8348-1709971200-1709985600@mulwalawaterski.com.au
SUMMARY:Bon Jovi Tribute
DESCRIPTION:
URL:https://mulwalawaterski.com.au/event/bon-jovi-tribute/
END:VEVENT
BEGIN:VEVENT
DTSTART;TZID=Australia/Sydney:20240308T080000
DTEND;TZID=Australia/Sydney:20240308T120000
DTSTAMP:20260420T005904
CREATED:20240207T060311Z
LAST-MODIFIED:20240207T060311Z
UID:8346-1709884800-1709899200@mulwalawaterski.com.au
SUMMARY:Me and the Girl | Malibu Deck
DESCRIPTION:
URL:https://mulwalawaterski.com.au/event/me-and-the-girl-malibu-deck/
LOCATION:Malibu Deck
CATEGORIES:Malibu Deck
END:VEVENT
BEGIN:VEVENT
DTSTART;TZID=Australia/Sydney:20240303T050000
DTEND;TZID=Australia/Sydney:20240303T090000
DTSTAMP:20260420T005904
CREATED:20240207T060236Z
LAST-MODIFIED:20240207T060236Z
UID:8344-1709442000-1709456400@mulwalawaterski.com.au
SUMMARY:Drowning Sorrows | Malibu Deck
DESCRIPTION:
URL:https://mulwalawaterski.com.au/event/drowning-sorrows-malibu-deck-2/
LOCATION:Malibu Deck
CATEGORIES:Malibu Deck
END:VEVENT
BEGIN:VEVENT
DTSTART;TZID=Australia/Sydney:20240302T080000
DTEND;TZID=Australia/Sydney:20240302T120000
DTSTAMP:20260420T005904
CREATED:20240207T060158Z
LAST-MODIFIED:20240207T060158Z
UID:8342-1709366400-1709380800@mulwalawaterski.com.au
SUMMARY:TUSK Fleetwood Mac Tribute
DESCRIPTION:
URL:https://mulwalawaterski.com.au/event/tusk-fleetwood-mac-tribute/
LOCATION:Malibu Deck
END:VEVENT
BEGIN:VEVENT
DTSTART;TZID=Australia/Sydney:20240301T080000
DTEND;TZID=Australia/Sydney:20240301T120000
DTSTAMP:20260420T005904
CREATED:20240207T055911Z
LAST-MODIFIED:20240207T055911Z
UID:8340-1709280000-1709294400@mulwalawaterski.com.au
SUMMARY:Drowning Sorrows | Malibu Deck
DESCRIPTION:
URL:https://mulwalawaterski.com.au/event/drowning-sorrows-malibu-deck/
LOCATION:Malibu Deck
CATEGORIES:Malibu Deck
END:VEVENT
BEGIN:VEVENT
DTSTART;TZID=Australia/Melbourne:20240225T060000
DTEND;TZID=Australia/Melbourne:20240225T100000
DTSTAMP:20260420T005904
CREATED:20240115T233234Z
LAST-MODIFIED:20240115T233234Z
UID:8075-1708840800-1708855200@mulwalawaterski.com.au
SUMMARY:Snow Road Troopers on the Malibu Deck
DESCRIPTION:
URL:https://mulwalawaterski.com.au/event/snow-road-troopers-on-the-malibu-deck/
CATEGORIES:Ski Club
END:VEVENT
BEGIN:VEVENT
DTSTART;TZID=Australia/Melbourne:20240224T110000
DTEND;TZID=Australia/Melbourne:20240224T123000
DTSTAMP:20260420T005904
CREATED:20240115T233029Z
LAST-MODIFIED:20240115T233029Z
UID:8073-1708772400-1708777800@mulwalawaterski.com.au
SUMMARY:Scott & Amanda — support to Elvis tribute
DESCRIPTION:
URL:https://mulwalawaterski.com.au/event/scott-amanda-support-to-elvis-tribute/
LOCATION:Refund and Returns Policy
CATEGORIES:Ski Club
END:VEVENT
BEGIN:VEVENT
DTSTART;TZID=Australia/Melbourne:20240224T080000
DTEND;TZID=Australia/Melbourne:20240224T110000
DTSTAMP:20260420T005904
CREATED:20240115T232517Z
LAST-MODIFIED:20240115T232517Z
UID:8071-1708761600-1708772400@mulwalawaterski.com.au
SUMMARY:Elvis Greatest Hits\, Sean Luke Spiteri
DESCRIPTION:
URL:https://mulwalawaterski.com.au/event/elvis-greatest-hits-sean-luke-spiteri/
CATEGORIES:Ski Club
END:VEVENT
BEGIN:VEVENT
DTSTART;TZID=Australia/Melbourne:20240223T080000
DTEND;TZID=Australia/Melbourne:20240223T120000
DTSTAMP:20260420T005904
CREATED:20240115T231852Z
LAST-MODIFIED:20240115T231852Z
UID:8069-1708675200-1708689600@mulwalawaterski.com.au
SUMMARY:Bin Chickens on the Malibu Deck
DESCRIPTION:
URL:https://mulwalawaterski.com.au/event/bin-chickens-on-the-malibu-deck/
CATEGORIES:Ski Club
END:VEVENT
BEGIN:VEVENT
DTSTART;TZID=Australia/Melbourne:20240218T060000
DTEND;TZID=Australia/Melbourne:20240218T100000
DTSTAMP:20260420T005904
CREATED:20240115T231632Z
LAST-MODIFIED:20240115T231632Z
UID:8067-1708236000-1708250400@mulwalawaterski.com.au
SUMMARY:Jammed Up on the Malibu Deck
DESCRIPTION:
URL:https://mulwalawaterski.com.au/event/jammed-up-on-the-malibu-deck/
CATEGORIES:Ski Club
END:VEVENT
BEGIN:VEVENT
DTSTART;TZID=Australia/Melbourne:20240217T110000
DTEND;TZID=Australia/Melbourne:20240217T123000
DTSTAMP:20260420T005904
CREATED:20240115T231524Z
LAST-MODIFIED:20240115T231524Z
UID:8065-1708167600-1708173000@mulwalawaterski.com.au
SUMMARY:Me & The Girl — support to INXSive
DESCRIPTION:
URL:https://mulwalawaterski.com.au/event/me-the-girl-support-to-inxsive/
LOCATION:Refund and Returns Policy
CATEGORIES:Ski Club
END:VEVENT
BEGIN:VEVENT
DTSTART;TZID=Australia/Melbourne:20240217T103000
DTEND;TZID=Australia/Melbourne:20240217T123000
DTSTAMP:20260420T005904
CREATED:20240115T230743Z
LAST-MODIFIED:20240115T230743Z
UID:8063-1708165800-1708173000@mulwalawaterski.com.au
SUMMARY:INXSive
DESCRIPTION:
URL:https://mulwalawaterski.com.au/event/inxsive-3/
LOCATION:Refund and Returns Policy
CATEGORIES:Ski Club
END:VEVENT
BEGIN:VEVENT
DTSTART;TZID=Australia/Melbourne:20240216T080000
DTEND;TZID=Australia/Melbourne:20240216T120000
DTSTAMP:20260420T005904
CREATED:20240115T230032Z
LAST-MODIFIED:20240115T230032Z
UID:8061-1708070400-1708084800@mulwalawaterski.com.au
SUMMARY:Catch 22
DESCRIPTION:
URL:https://mulwalawaterski.com.au/event/catch-22-2/
CATEGORIES:Ski Club
END:VEVENT
BEGIN:VEVENT
DTSTART;TZID=Australia/Melbourne:20240211T060000
DTEND;TZID=Australia/Melbourne:20240211T100000
DTSTAMP:20260420T005904
CREATED:20240115T225540Z
LAST-MODIFIED:20240115T225540Z
UID:8059-1707631200-1707645600@mulwalawaterski.com.au
SUMMARY:Luke Dewing on the Malibu Deck
DESCRIPTION:
URL:https://mulwalawaterski.com.au/event/luke-dewing-on-the-malibu-deck-2/
CATEGORIES:Ski Club
END:VEVENT
BEGIN:VEVENT
DTSTART;TZID=Australia/Melbourne:20240210T103000
DTEND;TZID=Australia/Melbourne:20240210T123000
DTSTAMP:20260420T005904
CREATED:20240115T225431Z
LAST-MODIFIED:20240115T225431Z
UID:8057-1707561000-1707568200@mulwalawaterski.com.au
SUMMARY:Rebel Rose
DESCRIPTION:
URL:https://mulwalawaterski.com.au/event/rebel-rose-2/
LOCATION:Refund and Returns Policy
CATEGORIES:Ski Club
END:VEVENT
BEGIN:VEVENT
DTSTART;TZID=Australia/Melbourne:20240209T080000
DTEND;TZID=Australia/Melbourne:20240209T120000
DTSTAMP:20260420T005904
CREATED:20240115T225252Z
LAST-MODIFIED:20240130T042107Z
UID:8055-1707465600-1707480000@mulwalawaterski.com.au
SUMMARY:Me & The Girl
DESCRIPTION:
URL:https://mulwalawaterski.com.au/event/me-the-girl-4/
CATEGORIES:Ski Club
END:VEVENT
BEGIN:VEVENT
DTSTART;TZID=Australia/Melbourne:20240204T060000
DTEND;TZID=Australia/Melbourne:20240204T100000
DTSTAMP:20260420T005904
CREATED:20240115T225056Z
LAST-MODIFIED:20240115T225056Z
UID:8053-1707026400-1707040800@mulwalawaterski.com.au
SUMMARY:Daine Runnalls on the Malibu Deck
DESCRIPTION:
URL:https://mulwalawaterski.com.au/event/daine-runnalls-on-the-malibu-deck/
CATEGORIES:Ski Club
END:VEVENT
END:VCALENDAR